BEGIN:VCALENDAR
VERSION:2.0
PRODID:-//Belém - ECPv6.15.20//NONSGML v1.0//EN
CALSCALE:GREGORIAN
METHOD:PUBLISH
X-WR-CALNAME:Belém
X-ORIGINAL-URL:https://www.jf-belem.pt
X-WR-CALDESC:Eventos para Belém
REFRESH-INTERVAL;VALUE=DURATION:PT1H
X-Robots-Tag:noindex
X-PUBLISHED-TTL:PT1H
BEGIN:VTIMEZONE
TZID:UTC
BEGIN:STANDARD
TZOFFSETFROM:+0000
TZOFFSETTO:+0000
TZNAME:UTC
DTSTART:20250101T000000
END:STANDARD
END:VTIMEZONE
BEGIN:VEVENT
DTSTART;TZID=UTC:20260409T100000
DTEND;TZID=UTC:20260430T173000
DTSTAMP:20260423T111629
CREATED:20260326T154920Z
LAST-MODIFIED:20260326T155141Z
UID:16638-1775728800-1777570200@www.jf-belem.pt
SUMMARY:Exposição "Cores Mediterrânicas"\, Inés Romdhane
DESCRIPTION:Cores Mediterrânicas é uma exposição que revela a harmonia partilhada entre países de três continentes que\, unidos pelo Mar Mediterrâneo\, compartilham passado\, história comum e afinidades demográficas e culturais.\nInés Romdhane convida-nos a atravessar as suas icónicas portas mediterrânicas. Nas suas telas\, estas portas deixam de ser apenas elementos arquitetónicos para se tornarem metáforas de abertura e hospitalidade\, ligando o mundo interior das memórias à luminosidade do presente\, evocando um passado sereno e uma paz que ultrapassa fronteiras. Nesta série\, o quotidiano — uma fachada\, uma paisagem ou um horizonte — é elevado à condição de símbolo universal.\nRomdhane não se limita a pintar lugares; a sua obra constitui uma ponte sensível entre culturas e pessoas\, uma linguagem de harmonia e uma contínua busca pela beleza da luz. \nBiografia de Inés Romdhane\nNascida na Tunísia em 1981\, é uma artista plástica com formação científica que alia a sua paixão autodidata pela pintura a uma profunda ligação ao Mediterrâneo. A sua obra\, de caráter realista e rica em paisagens\, flora e arquitetura\, distingue-se pelo uso inteligente da cor e evoca sensações de serenidade\, alegria e memórias emocionais. A artista convida-nos a atravessar portas icónicas\, concebidas como metáforas de abertura\, hospitalidade e união entre os países dos três continentes banhados por este mar comum\, através de uma paleta dominada por azuis profundos. \nDe 9 a 30 de abril. Horário:\n3ª a 6ª feira: 10H-13H | 14H30-17H30\n2ª feira: 10H-13H\n15 abril: 10H-13H\nFechado aos fins de semana. \nEntrada livre.
URL:https://www.jf-belem.pt/atividade/exposicao-cores-mediterranicas-ines-romdhane-9-a-30-de-abril/
LOCATION:Centro Social de Belém\, Bairro de Belém (Terras do Forno) | Rua 11\, Lisboa\, Lisboa\, 1400-260\, Portugal
CATEGORIES:Cultura
ATTACH;FMTTYPE=image/jpeg:https://www.jf-belem.pt/wp-content/uploads/2026/03/Site-Cores-Medi.jpg
END:VEVENT
BEGIN:VEVENT
DTSTART;TZID=UTC:20260410T100000
DTEND;TZID=UTC:20260510T190000
DTSTAMP:20260423T111629
CREATED:20260408T130736Z
LAST-MODIFIED:20260408T131113Z
UID:16688-1775815200-1778439600@www.jf-belem.pt
SUMMARY:MBooks – Associação Ler para Ser
DESCRIPTION:A Junta de Freguesia de Belém tem o prazer de anunciar uma iniciativa especial que promete transformar a nossa comunidade num verdadeiro ponto de encontro com a cultura. \nEm parceria com a Associação Ler Para Ser\, vamos receber um grande Mercado do Livro\, um evento que reunirá centenas de editoras e milhares de livros cuidadosamente selecionados para todos os gostos e idades. \nAo longo deste mercado\, será possível descobrir:\n– Novidades editoriais;\n– Grandes romances\, clássicos e outros livros a preços acessíveis ;\n– Obras únicas\, difíceis de encontrar em circuitos tradicionais;\n– Uma vasta seleção de livros infantis\, com especial destaque para os mais pequenos;\n– Literatura inglesa. \nSão centenas de editoras\, milhares de livros a preços acessíveis! \nMais do que um evento literário\, esta iniciativa representa um compromisso claro com o futuro: promover o acesso à leitura\, estimular o gosto pelos livros desde cedo e contribuir para reduzir desigualdades sociais através da cultura. \nAcreditamos que os livros são ferramentas poderosas de transformação — e é com esse propósito que abrimos as portas de Belém a esta iniciativa. \nConvidamos todas as famílias\, educadores e amantes de leitura a visitar este mercado e a fazer parte deste movimento que coloca os livros no centro da comunidade. \nEsperamos por si.
URL:https://www.jf-belem.pt/atividade/mbooks-associacao-ler-para-ser/
LOCATION:Mercado do Livro\, Travessa da Praça\, Belém\, 1300-315\, Portugal
CATEGORIES:Cultura
ATTACH;FMTTYPE=image/jpeg:https://www.jf-belem.pt/wp-content/uploads/2026/04/Mbooks-Site.jpg
END:VEVENT
BEGIN:VEVENT
DTSTART;TZID=UTC:20260423T100000
DTEND;TZID=UTC:20260423T113000
DTSTAMP:20260423T111629
CREATED:20260305T104151Z
LAST-MODIFIED:20260420T150146Z
UID:16467-1776938400-1776943800@www.jf-belem.pt
SUMMARY:Roda das Mães
DESCRIPTION:A Roda das Mães surge como um espaço de encontro\, partilha e apoio\, destinado a mães que procuram momentos de escuta\, proximidade e troca de experiências num ambiente acolhedor e informal. O projeto\, que pretende criar uma rede de apoio entre mães\, valorizando o diálogo e a partilha de vivências\, conta com a parceria da Associação Italiana MAMMEinCERCHIO APS – Associação para o serviço social\, fortalecendo o intercâmbio cultural e a colaboração entre comunidades. \nA Roda das Mães realiza-se às quintas-feiras\, até dezembro (exceções: de 4 de junho – feriado de Corpo de Deus – e agosto). A participação é gratuita e não requer inscrição prévia.
URL:https://www.jf-belem.pt/atividade/roda-das-maes/
LOCATION:Mercadinho Solidário S. Francisco Xavier\, R. Antão Gonçalves\, Paróquia de S. Francisco Xavier\, Lisboa\, 1400-211\, Portugal
CATEGORIES:Acção Social
ATTACH;FMTTYPE=image/jpeg:https://www.jf-belem.pt/wp-content/uploads/2026/03/RODA-DAS-MAES.jpg
END:VEVENT
BEGIN:VEVENT
DTSTART;TZID=UTC:20260423T160000
DTEND;TZID=UTC:20260423T173000
DTSTAMP:20260423T111629
CREATED:20260406T093739Z
LAST-MODIFIED:20260406T093739Z
UID:16678-1776960000-1776965400@www.jf-belem.pt
SUMMARY:Tarde de Loto
DESCRIPTION:Seja para testar a sua sorte ou apenas para desfrutar de uma tarde diferente na companhia de vizinhos e amigos\, a tarde de loto é o evento ideal para quem procura entretenimento num ambiente acolhedor. \nGratuito com inscrição obrigatória:\nhttps://forms.gle/Ez3f1iB1XtyCic5Z7 \n 
URL:https://www.jf-belem.pt/atividade/tarde-de-loto-2/
LOCATION:Biblioteca da Junta de Freguesia de Belem\, Rua João de Paiva\, 11\, Lisboa\, Portugal
CATEGORIES:Cultura
ATTACH;FMTTYPE=image/jpeg:https://www.jf-belem.pt/wp-content/uploads/2026/04/TARDE-DE-LOTO-2-SITE.jpg
END:VEVENT
END:VCALENDAR